BEGIN:VCALENDAR
VERSION:2.0
PRODID:-//Camouflaged Sisters - ECPv6.15.20//NONSGML v1.0//EN
CALSCALE:GREGORIAN
METHOD:PUBLISH
X-ORIGINAL-URL:https://camouflagedsisters.com
X-WR-CALDESC:Events for Camouflaged Sisters
REFRESH-INTERVAL;VALUE=DURATION:PT1H
X-Robots-Tag:noindex
X-PUBLISHED-TTL:PT1H
BEGIN:VTIMEZONE
TZID:America/Chicago
BEGIN:DAYLIGHT
TZOFFSETFROM:-0600
TZOFFSETTO:-0500
TZNAME:CDT
DTSTART:20240310T080000
END:DAYLIGHT
BEGIN:STANDARD
TZOFFSETFROM:-0500
TZOFFSETTO:-0600
TZNAME:CST
DTSTART:20241103T070000
END:STANDARD
BEGIN:DAYLIGHT
TZOFFSETFROM:-0600
TZOFFSETTO:-0500
TZNAME:CDT
DTSTART:20250309T080000
END:DAYLIGHT
BEGIN:STANDARD
TZOFFSETFROM:-0500
TZOFFSETTO:-0600
TZNAME:CST
DTSTART:20251102T070000
END:STANDARD
BEGIN:DAYLIGHT
TZOFFSETFROM:-0600
TZOFFSETTO:-0500
TZNAME:CDT
DTSTART:20260308T080000
END:DAYLIGHT
BEGIN:STANDARD
TZOFFSETFROM:-0500
TZOFFSETTO:-0600
TZNAME:CST
DTSTART:20261101T070000
END:STANDARD
BEGIN:DAYLIGHT
TZOFFSETFROM:-0600
TZOFFSETTO:-0500
TZNAME:CDT
DTSTART:20270314T080000
END:DAYLIGHT
BEGIN:STANDARD
TZOFFSETFROM:-0500
TZOFFSETTO:-0600
TZNAME:CST
DTSTART:20271107T070000
END:STANDARD
END:VTIMEZONE
BEGIN:VEVENT
DTSTART;VALUE=DATE:20260403
DTEND;VALUE=DATE:20260411
DTSTAMP:20260423T102239
CREATED:20241214T072018Z
LAST-MODIFIED:20250324T164511Z
UID:2165-1775174400-1775865599@camouflagedsisters.com
SUMMARY:Sisterhood Getaway
DESCRIPTION:Please log in to access this page! \n  \n  \n            \n\n                       \n            \n        \n                              Username\n        \n        \n      \n      \n        \n          Password\n          \n            \n            \n              \n            \n          \n        \n      \n            \n         Remember Me\n      \n       \n      \n        \n        \n        \n        \n      \n    \n     \n    \n        \n          Forgot Password
URL:https://camouflagedsisters.com/event/sisterhood-getaway/
LOCATION:Orlando\, Port Canaveral (Depart/Return)\, 9155 Charles M Rowland Dr\, Cape Canaveral\, Florida\, 32920\, United States
CATEGORIES:Monthly Events
ATTACH;FMTTYPE=image/jpeg:https://camouflagedsisters.com/wp-content/uploads/2024/12/seatran-ferry-conveying-passenger-from-donsak-pier-surat.jpg
END:VEVENT
BEGIN:VEVENT
DTSTART;TZID=America/Chicago:20251120T200000
DTEND;TZID=America/Chicago:20251120T210000
DTSTAMP:20260423T102239
CREATED:20241214T072003Z
LAST-MODIFIED:20250102T193502Z
UID:2164-1763668800-1763672400@camouflagedsisters.com
SUMMARY:Sisterhood Chat - Zoom
DESCRIPTION:Please log in to access this page!
URL:https://camouflagedsisters.com/event/sisterhood-chat-zoom-25/
LOCATION:Virtual
CATEGORIES:Monthly Events
ATTACH;FMTTYPE=image/jpeg:https://camouflagedsisters.com/wp-content/uploads/2021/10/Sisterhood-Chat.jpg
END:VEVENT
BEGIN:VEVENT
DTSTART;TZID=America/Chicago:20251115T200000
DTEND;TZID=America/Chicago:20251115T210000
DTSTAMP:20260423T102239
CREATED:20241214T073300Z
LAST-MODIFIED:20241214T073300Z
UID:2189-1763236800-1763240400@camouflagedsisters.com
SUMMARY:Celebrating Accomplishments: Writing About Personal Triumphs
DESCRIPTION:Please log in to access this page!
URL:https://camouflagedsisters.com/event/celebrating-accomplishments-writing-about-personal-triumphs/
LOCATION:Virtual
CATEGORIES:Monthly Events
ATTACH;FMTTYPE=image/jpeg:https://camouflagedsisters.com/wp-content/uploads/2021/10/Sisterhood-Chat.jpg
END:VEVENT
BEGIN:VEVENT
DTSTART;TZID=America/Chicago:20251106T200000
DTEND;TZID=America/Chicago:20251106T210000
DTSTAMP:20260423T102239
CREATED:20241214T071955Z
LAST-MODIFIED:20250102T193437Z
UID:2163-1762459200-1762462800@camouflagedsisters.com
SUMMARY:Sisterhood Chat - Zoom
DESCRIPTION:Please log in to access this page!
URL:https://camouflagedsisters.com/event/sisterhood-chat-zoom-24/
LOCATION:Virtual
CATEGORIES:Monthly Events
ATTACH;FMTTYPE=image/jpeg:https://camouflagedsisters.com/wp-content/uploads/2021/10/Sisterhood-Chat.jpg
END:VEVENT
BEGIN:VEVENT
DTSTART;TZID=America/Chicago:20251023T200000
DTEND;TZID=America/Chicago:20251023T210000
DTSTAMP:20260423T102239
CREATED:20241214T071942Z
LAST-MODIFIED:20250102T193406Z
UID:2162-1761249600-1761253200@camouflagedsisters.com
SUMMARY:Sisterhood Chat - Zoom
DESCRIPTION:Please log in to access this page!
URL:https://camouflagedsisters.com/event/sisterhood-chat-zoom-23/
LOCATION:Virtual
CATEGORIES:Monthly Events
ATTACH;FMTTYPE=image/jpeg:https://camouflagedsisters.com/wp-content/uploads/2021/10/Sisterhood-Chat.jpg
END:VEVENT
BEGIN:VEVENT
DTSTART;TZID=America/Chicago:20251018T200000
DTEND;TZID=America/Chicago:20251018T210000
DTSTAMP:20260423T102239
CREATED:20241214T073236Z
LAST-MODIFIED:20241214T073442Z
UID:2188-1760817600-1760821200@camouflagedsisters.com
SUMMARY:Gratitude Journaling: Shifting Your Perspective
DESCRIPTION:Please log in to access this page!
URL:https://camouflagedsisters.com/event/gratitude-journaling-shifting-your-perspective/
LOCATION:Virtual
CATEGORIES:Monthly Events
ATTACH;FMTTYPE=image/jpeg:https://camouflagedsisters.com/wp-content/uploads/2021/10/Sisterhood-Chat.jpg
END:VEVENT
BEGIN:VEVENT
DTSTART;TZID=America/Chicago:20251009T200000
DTEND;TZID=America/Chicago:20251009T210000
DTSTAMP:20260423T102239
CREATED:20241214T071928Z
LAST-MODIFIED:20250102T193327Z
UID:2161-1760040000-1760043600@camouflagedsisters.com
SUMMARY:Sisterhood Chat - Zoom
DESCRIPTION:Please log in to access this page!
URL:https://camouflagedsisters.com/event/sisterhood-chat-zoom-22/
LOCATION:Virtual
CATEGORIES:Monthly Events
ATTACH;FMTTYPE=image/jpeg:https://camouflagedsisters.com/wp-content/uploads/2021/10/Sisterhood-Chat.jpg
END:VEVENT
BEGIN:VEVENT
DTSTART;VALUE=DATE:20250927
DTEND;VALUE=DATE:20250928
DTSTAMP:20260423T102239
CREATED:20240826T234107Z
LAST-MODIFIED:20240826T234107Z
UID:2056-1758931200-1759017599@camouflagedsisters.com
SUMMARY:Quarterly Sisterhood Meetup - In Person/Atlanta\, GA (Location TBD)
DESCRIPTION:Please log in to access this page!
URL:https://camouflagedsisters.com/event/quarterly-sisterhood-meetup-in-person-atlanta-ga-location-tbd/
LOCATION:Online & In-person\, TN\, United States
CATEGORIES:Getaways,Monthly Events
ATTACH;FMTTYPE=image/jpeg:https://camouflagedsisters.com/wp-content/uploads/2024/04/qtq80-8rCOaX.jpeg
END:VEVENT
BEGIN:VEVENT
DTSTART;TZID=America/Chicago:20250925T200000
DTEND;TZID=America/Chicago:20250925T210000
DTSTAMP:20260423T102240
CREATED:20241214T071912Z
LAST-MODIFIED:20250102T193307Z
UID:2160-1758830400-1758834000@camouflagedsisters.com
SUMMARY:Sisterhood Chat - Zoom
DESCRIPTION:Please log in to access this page!
URL:https://camouflagedsisters.com/event/sisterhood-chat-zoom-21/
LOCATION:Virtual
CATEGORIES:Monthly Events
ATTACH;FMTTYPE=image/jpeg:https://camouflagedsisters.com/wp-content/uploads/2021/10/Sisterhood-Chat.jpg
END:VEVENT
BEGIN:VEVENT
DTSTART;TZID=America/Chicago:20250920T200000
DTEND;TZID=America/Chicago:20250920T210000
DTSTAMP:20260423T102240
CREATED:20241214T073220Z
LAST-MODIFIED:20241214T073433Z
UID:2187-1758398400-1758402000@camouflagedsisters.com
SUMMARY:Mindful Journaling: Connecting with the Present Moment
DESCRIPTION:Please log in to access this page!
URL:https://camouflagedsisters.com/event/mindful-journaling-connecting-with-the-present-moment/
LOCATION:Virtual
CATEGORIES:Monthly Events
ATTACH;FMTTYPE=image/jpeg:https://camouflagedsisters.com/wp-content/uploads/2021/10/Sisterhood-Chat.jpg
END:VEVENT
BEGIN:VEVENT
DTSTART;TZID=America/Chicago:20250828T200000
DTEND;TZID=America/Chicago:20250828T210000
DTSTAMP:20260423T102240
CREATED:20241214T071902Z
LAST-MODIFIED:20250102T193221Z
UID:2159-1756411200-1756414800@camouflagedsisters.com
SUMMARY:Sisterhood Chat - Zoom
DESCRIPTION:Please log in to access this page!
URL:https://camouflagedsisters.com/event/sisterhood-chat-zoom-20/
LOCATION:Virtual
CATEGORIES:Monthly Events
ATTACH;FMTTYPE=image/jpeg:https://camouflagedsisters.com/wp-content/uploads/2021/10/Sisterhood-Chat.jpg
END:VEVENT
BEGIN:VEVENT
DTSTART;TZID=America/Chicago:20250816T200000
DTEND;TZID=America/Chicago:20250816T210000
DTSTAMP:20260423T102240
CREATED:20241214T073144Z
LAST-MODIFIED:20241214T073423Z
UID:2186-1755374400-1755378000@camouflagedsisters.com
SUMMARY:Prompt-Powered Journaling: Unlocking Deeper Insights
DESCRIPTION:Please log in to access this page!
URL:https://camouflagedsisters.com/event/prompt-powered-journaling-unlocking-deeper-insights/
LOCATION:Virtual
CATEGORIES:Monthly Events
ATTACH;FMTTYPE=image/jpeg:https://camouflagedsisters.com/wp-content/uploads/2021/10/Sisterhood-Chat.jpg
END:VEVENT
BEGIN:VEVENT
DTSTART;TZID=America/Chicago:20250814T200000
DTEND;TZID=America/Chicago:20250814T210000
DTSTAMP:20260423T102240
CREATED:20241214T071851Z
LAST-MODIFIED:20250102T193154Z
UID:2158-1755201600-1755205200@camouflagedsisters.com
SUMMARY:Sisterhood Chat - Zoom
DESCRIPTION:Please log in to access this page!
URL:https://camouflagedsisters.com/event/sisterhood-chat-zoom-19/
LOCATION:Virtual
CATEGORIES:Monthly Events
ATTACH;FMTTYPE=image/jpeg:https://camouflagedsisters.com/wp-content/uploads/2021/10/Sisterhood-Chat.jpg
END:VEVENT
BEGIN:VEVENT
DTSTART;TZID=America/Chicago:20250724T200000
DTEND;TZID=America/Chicago:20250724T210000
DTSTAMP:20260423T102240
CREATED:20241214T071832Z
LAST-MODIFIED:20250102T193135Z
UID:2157-1753387200-1753390800@camouflagedsisters.com
SUMMARY:Sisterhood Chat - Zoom
DESCRIPTION:Please log in to access this page!
URL:https://camouflagedsisters.com/event/sisterhood-chat-zoom-18/
LOCATION:Virtual
CATEGORIES:Monthly Events
ATTACH;FMTTYPE=image/jpeg:https://camouflagedsisters.com/wp-content/uploads/2021/10/Sisterhood-Chat.jpg
END:VEVENT
BEGIN:VEVENT
DTSTART;TZID=America/Chicago:20250719T200000
DTEND;TZID=America/Chicago:20250719T210000
DTSTAMP:20260423T102240
CREATED:20241214T073122Z
LAST-MODIFIED:20241214T073411Z
UID:2185-1752955200-1752958800@camouflagedsisters.com
SUMMARY:Transforming Struggles into Strengths: Writing About Overcoming Challenges
DESCRIPTION:Please log in to access this page!
URL:https://camouflagedsisters.com/event/transforming-struggles-into-strengths-writing-about-overcoming-challenges/
LOCATION:Virtual
CATEGORIES:Monthly Events
ATTACH;FMTTYPE=image/jpeg:https://camouflagedsisters.com/wp-content/uploads/2021/10/Sisterhood-Chat.jpg
END:VEVENT
BEGIN:VEVENT
DTSTART;TZID=America/Chicago:20250710T200000
DTEND;TZID=America/Chicago:20250710T210000
DTSTAMP:20260423T102240
CREATED:20241214T071613Z
LAST-MODIFIED:20250102T193108Z
UID:2155-1752177600-1752181200@camouflagedsisters.com
SUMMARY:Sisterhood Chat - Zoom
DESCRIPTION:Please log in to access this page!
URL:https://camouflagedsisters.com/event/sisterhood-chat-zoom-17/
LOCATION:Virtual
CATEGORIES:Monthly Events
ATTACH;FMTTYPE=image/jpeg:https://camouflagedsisters.com/wp-content/uploads/2021/10/Sisterhood-Chat.jpg
END:VEVENT
BEGIN:VEVENT
DTSTART;VALUE=DATE:20250628
DTEND;VALUE=DATE:20250629
DTSTAMP:20260423T102240
CREATED:20240826T233854Z
LAST-MODIFIED:20240826T233924Z
UID:2054-1751068800-1751155199@camouflagedsisters.com
SUMMARY:Quarterly Sisterhood Meetup - In Person/Leavenworth\, KS (Location TBD)
DESCRIPTION:Please log in to access this page!
URL:https://camouflagedsisters.com/event/quarterly-sisterhood-meetup-in-person-leavenworth-ks-location-tbd/
LOCATION:Online & In-person\, TN\, United States
CATEGORIES:Getaways,Monthly Events
ATTACH;FMTTYPE=image/jpeg:https://camouflagedsisters.com/wp-content/uploads/2024/04/qtq80-8rCOaX.jpeg
END:VEVENT
BEGIN:VEVENT
DTSTART;TZID=America/Chicago:20250626T200000
DTEND;TZID=America/Chicago:20250626T210000
DTSTAMP:20260423T102240
CREATED:20241214T071436Z
LAST-MODIFIED:20250102T193008Z
UID:2152-1750968000-1750971600@camouflagedsisters.com
SUMMARY:Sisterhood Chat - Zoom
DESCRIPTION:Please log in to access this page!
URL:https://camouflagedsisters.com/event/sisterhood-chat-zoom-15/
LOCATION:Virtual
CATEGORIES:Monthly Events
ATTACH;FMTTYPE=image/jpeg:https://camouflagedsisters.com/wp-content/uploads/2021/10/Sisterhood-Chat.jpg
END:VEVENT
BEGIN:VEVENT
DTSTART;TZID=America/Chicago:20250621T200000
DTEND;TZID=America/Chicago:20250621T210000
DTSTAMP:20260423T102240
CREATED:20241214T073100Z
LAST-MODIFIED:20241214T073404Z
UID:2184-1750536000-1750539600@camouflagedsisters.com
SUMMARY:Telling Stories of Sisterhood
DESCRIPTION:Please log in to access this page!
URL:https://camouflagedsisters.com/event/telling-stories-of-sisterhood/
LOCATION:Virtual
CATEGORIES:Monthly Events
ATTACH;FMTTYPE=image/jpeg:https://camouflagedsisters.com/wp-content/uploads/2021/10/Sisterhood-Chat.jpg
END:VEVENT
BEGIN:VEVENT
DTSTART;TZID=America/Chicago:20250522T200000
DTEND;TZID=America/Chicago:20250522T210000
DTSTAMP:20260423T102240
CREATED:20241214T071350Z
LAST-MODIFIED:20250102T192939Z
UID:2150-1747944000-1747947600@camouflagedsisters.com
SUMMARY:Sisterhood Chat - Zoom
DESCRIPTION:Please log in to access this page!
URL:https://camouflagedsisters.com/event/sisterhood-chat-zoom-14/
LOCATION:Virtual
CATEGORIES:Monthly Events
ATTACH;FMTTYPE=image/jpeg:https://camouflagedsisters.com/wp-content/uploads/2021/10/Sisterhood-Chat.jpg
END:VEVENT
BEGIN:VEVENT
DTSTART;TZID=America/Chicago:20250517T200000
DTEND;TZID=America/Chicago:20250517T210000
DTSTAMP:20260423T102240
CREATED:20241214T073034Z
LAST-MODIFIED:20241214T073353Z
UID:2183-1747512000-1747515600@camouflagedsisters.com
SUMMARY:Healing Through Writing: Exploring Journaling as Therapy
DESCRIPTION:Please log in to access this page!
URL:https://camouflagedsisters.com/event/healing-through-writing-exploring-journaling-as-therapy/
LOCATION:Virtual
CATEGORIES:Monthly Events
ATTACH;FMTTYPE=image/jpeg:https://camouflagedsisters.com/wp-content/uploads/2021/10/Sisterhood-Chat.jpg
END:VEVENT
BEGIN:VEVENT
DTSTART;TZID=America/Chicago:20250508T200000
DTEND;TZID=America/Chicago:20250508T210000
DTSTAMP:20260423T102240
CREATED:20241214T071230Z
LAST-MODIFIED:20250102T192913Z
UID:2147-1746734400-1746738000@camouflagedsisters.com
SUMMARY:Sisterhood Chat - Zoom
DESCRIPTION:Please log in to access this page!
URL:https://camouflagedsisters.com/event/sisterhood-chat-zoom-13/
LOCATION:Virtual
CATEGORIES:Monthly Events
ATTACH;FMTTYPE=image/jpeg:https://camouflagedsisters.com/wp-content/uploads/2021/10/Sisterhood-Chat.jpg
END:VEVENT
BEGIN:VEVENT
DTSTART;TZID=America/Chicago:20250424T200000
DTEND;TZID=America/Chicago:20250424T210000
DTSTAMP:20260423T102240
CREATED:20241214T071525Z
LAST-MODIFIED:20241231T055036Z
UID:2149-1745524800-1745528400@camouflagedsisters.com
SUMMARY:Sisterhood Chat - Zoom
DESCRIPTION:Please log in to access this page!
URL:https://camouflagedsisters.com/event/sisterhood-chat-zoom-16/
LOCATION:Virtual
CATEGORIES:Monthly Events
ATTACH;FMTTYPE=image/jpeg:https://camouflagedsisters.com/wp-content/uploads/2021/10/Sisterhood-Chat.jpg
END:VEVENT
END:VCALENDAR